BEGIN:VCALENDAR
VERSION:2.0
PRODID:-//Nigeria Business Finder - ECPv6.3.5//NONSGML v1.0//EN
CALSCALE:GREGORIAN
METHOD:PUBLISH
X-ORIGINAL-URL:https://nigeriabusinessfinder.com
X-WR-CALDESC:Events for Nigeria Business Finder
REFRESH-INTERVAL;VALUE=DURATION:PT1H
X-Robots-Tag:noindex
X-PUBLISHED-TTL:PT1H
BEGIN:VTIMEZONE
TZID:UTC
BEGIN:STANDARD
TZOFFSETFROM:+0000
TZOFFSETTO:+0000
TZNAME:UTC
DTSTART:20230101T000000
END:STANDARD
END:VTIMEZONE
BEGIN:VEVENT
DTSTART;TZID=UTC:20230926T090000
DTEND;TZID=UTC:20230928T170000
DTSTAMP:20260423T175315
CREATED:20230426T172813Z
LAST-MODIFIED:20230426T172813Z
UID:1314-1695718800-1695920400@nigeriabusinessfinder.com
SUMMARY:Tool West Africa 2023
DESCRIPTION:TOOL West Africa is the most comprehensive exhibition and conference for the Hardware\, Tools\, Electricals and DIY industry sectors. \nTOOL West Africa is the leading exhibition and conference for the Hardware\, Tools\, electricals and DIY industry sectors offering specialist traders and buyers with a comprehensive category of products and services. \nTOOL West Africa is now recognized as the largest hardware & DIY event in Nigeria – with over 160 exhibitors from 15 countries. The 2022 edition is now expected to bring together over 8000 Professional users\, retail\, wholesale\, informal professionals to network\, build contacts and also plays host to a series of local & international speakers from across the world.This Show will provide the tools needed to equip your customer\, empower your business and engage with your industry. The future\, and evolution\, of home improvement is here. This is the preferred trading platform by industry manufacturers and authoritative trade associations around the world. \nWHY ATTEND TOOL WEST AFRICA? \nBuyers from all over Nigeria and West Africa gather at TOOL West Africa every year to source for the best deals and make connections. Nevertheless the vast majority is domestic visitors and an increasing number of international exhibitors use this show as a platform to enter or expand on the West African market. TOOL West Africa is the ideal gateway for international brands looking to gain a firm foothold in Nigeria and West Africa. \nFor enquiries\, email the team at Info@iec-exhibitions.com
URL:https://nigeriabusinessfinder.com/event/tool-west-africa-2023/
LOCATION:Eko Hotel And Suites 1415 Adetokunbo Ademola Street Lagos\, LA 106104 Nigeria
ATTACH;FMTTYPE=image/jpeg:https://nigeriabusinessfinder.com/wp-content/uploads/2023/04/Tool-West-Africa-2023.jpeg
END:VEVENT
BEGIN:VEVENT
DTSTART;VALUE=DATE:20230812
DTEND;VALUE=DATE:20230814
DTSTAMP:20260423T175315
CREATED:20230426T170952Z
LAST-MODIFIED:20230426T171121Z
UID:1303-1691798400-1691971199@nigeriabusinessfinder.com
SUMMARY:Milton African and Multicultural Festival
DESCRIPTION:Celebrating African and multicultural diversity: The Milton African and Multicultural Festival is a celebration of the richness and diversit \nWe are excited to announce the 3rd edition of our annual music and dance festival\, which will take place on Saturday\, August 12\, 2023 at Milton Community Park.After two successful editions\, we are proud to offer you an even more memorable experience this year.Our festival celebrates music and dance in all its forms\, with a lineup of exceptional musicians and dancers from the region and beyond. Our stage will be brought to life by talented artists who will make you feel the beat with their performance and passion for music and dance.We have also planned a wide range of activities and entertainment for the whole family\, including dance workshop\, storytelling\, kid’s zone\, food and drink vendors\, and much more…Our aim is to provide you with an unforgettable experience of music and dance and to create an event that brings the community together.
URL:https://nigeriabusinessfinder.com/event/milton-african-and-multicultural-festival/
LOCATION:Milton Community Park 805 Santa Maria Blvd Milton\, ON L9T 2X5 Canada
ATTACH;FMTTYPE=image/jpeg:https://nigeriabusinessfinder.com/wp-content/uploads/2023/04/Milton-African-and-Multicultural-Festival.jpeg
END:VEVENT
END:VCALENDAR