BEGIN:VCALENDAR
VERSION:2.0
PRODID:-//Nigeria Business Finder - ECPv6.3.5//NONSGML v1.0//EN
CALSCALE:GREGORIAN
METHOD:PUBLISH
X-WR-CALNAME:Nigeria Business Finder
X-ORIGINAL-URL:https://nigeriabusinessfinder.com
X-WR-CALDESC:Events for Nigeria Business Finder
REFRESH-INTERVAL;VALUE=DURATION:PT1H
X-Robots-Tag:noindex
X-PUBLISHED-TTL:PT1H
BEGIN:VTIMEZONE
TZID:UTC
BEGIN:STANDARD
TZOFFSETFROM:+0000
TZOFFSETTO:+0000
TZNAME:UTC
DTSTART:20230101T000000
END:STANDARD
END:VTIMEZONE
BEGIN:VEVENT
DTSTART;TZID=UTC:20230711T100000
DTEND;TZID=UTC:20230713T170000
DTSTAMP:20260423T174800
CREATED:20230426T173828Z
LAST-MODIFIED:20230426T173927Z
UID:1317-1689069600-1689267600@nigeriabusinessfinder.com
SUMMARY:WATER EXPO NIGERIA 2023
DESCRIPTION:International Wastewater\, Water Quality\, Environmental Services\, chemical treatment and Sanitation industries \nThe biggest trade show of its kind in Nigeria and West Africa has created an avenue to expand the frontiers of the Nigerian Water and Hvac environment with an enlightened Workshop and also had strong supported presence of various Engineering bodies. \nSignificant demand from international and local suppliers has shown that Wawe Expo is the greatest meeting point for Water Systems dealers in West Africa. Attenders discovered products from key Water Systems suppliers both local and international\, who showcased the latest product innovations and technologies.They gained a great network with Nigeria’s top Water Systems & construction industry professionals. Thanks to the variety of our workshops \nSo many educational topics have been discussed. \nThe 2022 event attracted 140 brands\, representing companies from 19 countries\, as well as more than 3800 visitors throughout the World: Algeria\, Austria\, Belgium\, \nChina\, Germany\, Ghana\, India\, Italy\, Japan\, Lebanon\, Nigeria\, Poland\, Russia\, South Korea\, Spain\, Turkey\, United Arab Emirates\, United Kingdom\, United States. \nPlease contact us on; \nhttp://elanexpo.net/waweexpo/ \ninfo@elanexpo.net \nLagos / NIGERIA \nVenue: Landmark Centre
URL:https://nigeriabusinessfinder.com/event/water-expo-nigeria-2023/
LOCATION:Landmark Plot 3 & 4 Adeniyi Jones Lagos\, LA 106104 Nigeria
ATTACH;FMTTYPE=image/jpeg:https://nigeriabusinessfinder.com/wp-content/uploads/2023/04/WATER-EXPO-NIGERIA-2023.jpeg
END:VEVENT
BEGIN:VEVENT
DTSTART;TZID=UTC:20230710T090000
DTEND;TZID=UTC:20230715T220000
DTSTAMP:20260423T174800
CREATED:20230426T164736Z
LAST-MODIFIED:20230426T164849Z
UID:1290-1688979600-1689458400@nigeriabusinessfinder.com
SUMMARY:Lagos Startup Week 2023
DESCRIPTION:Lagos Startup Week is one of Nigeria’s most intimate tech festivals bringing together our global tech Community. \nSW23 is one of Nigeria’s most influential events for the Nigerian Startup ecosystem. \nIt’s where radical disruption turns into radical growth\, where tomorrow’s unicorn is launched today\, and where\, together\, we illuminate the potential of a better Africa. \nTrailblazers\, decision-makers\, and giants of the industry gather to exhibit ground-breaking products\, demo new technologies and share inspiring thought leadership.  This is your chance to network with Founders\, investors\, Government officials\, and technology providers and to accelerate your product\, business\, or idea. \nLSW is a dazzling\, future-facing reflection of our connectivity ecosystem\, one that unleashes the convergence of technology\, community\, and commerce. \nJoin us and experience Africa in a new light.
URL:https://nigeriabusinessfinder.com/event/lagos-startup-week-2023/
LOCATION:Federal Palace Hotel and Casino 6-8 Ahmadu Bello Way Lagos\, LA 101241 Nigeria
ATTACH;FMTTYPE=image/jpeg:https://nigeriabusinessfinder.com/wp-content/uploads/2023/04/Lagos-Startup-Week-2023.jpeg
END:VEVENT
END:VCALENDAR