BEGIN:VCALENDAR
VERSION:2.0
PRODID:-//Nigeria Business Finder - ECPv6.3.5//NONSGML v1.0//EN
CALSCALE:GREGORIAN
METHOD:PUBLISH
X-ORIGINAL-URL:https://nigeriabusinessfinder.com
X-WR-CALDESC:Events for Nigeria Business Finder
REFRESH-INTERVAL;VALUE=DURATION:PT1H
X-Robots-Tag:noindex
X-PUBLISHED-TTL:PT1H
BEGIN:VTIMEZONE
TZID:UTC
BEGIN:STANDARD
TZOFFSETFROM:+0000
TZOFFSETTO:+0000
TZNAME:UTC
DTSTART:20230101T000000
END:STANDARD
END:VTIMEZONE
BEGIN:VEVENT
DTSTART;TZID=UTC:20230704T100000
DTEND;TZID=UTC:20230706T160000
DTSTAMP:20260423T174849
CREATED:20230426T163719Z
LAST-MODIFIED:20230426T163920Z
UID:1283-1688464800-1688659200@nigeriabusinessfinder.com
SUMMARY:IOT West Africa
DESCRIPTION:West Africa’s one of a kind event IoT West Africa www.iotwestafrica.com scheduled from 20th-22nd June\, 2023 at Landmark Centre\, Lagos will bring together key industries from across the region for three days of top-level content and discussion across 4 co-located events covering IoT\, Future Mobility\, AI & Blockchain and Power and Water Nigeria. \nAt each event\, the IoT West Africa Event will showcase the most cutting-edge technologies from key bellwethers and provide insight from over 50 speakers sharing their unparalleled industry knowledge and real-life experiences. Exploring the latest innovations within the Internet of Things and covering the impact it has on many industries including manufacturing\, transport\, supply chain\, logistics\, automotive\, construction\, government\, energy\, utilities\, insurance\, healthcare and retail\, this event is not to be missed. \nAttendees for the event include CTOs\, CIOs\, CEOs\, Heads of Innovation and Technology\, IT Directors\, Developers\, Start-Up’s\, OEM’s\, Government\, Automotive\, Operators\, Technology Providers\, Investors\, VCs and many more
URL:https://nigeriabusinessfinder.com/event/iot-west-africa/
LOCATION:Landmark Centre Water Corporation Drive #Plot 2 & 3 Annex\, LA 106104 Nigeria
ATTACH;FMTTYPE=image/jpeg:https://nigeriabusinessfinder.com/wp-content/uploads/2023/04/IOT-West-Africa.jpeg
END:VEVENT
BEGIN:VEVENT
DTSTART;TZID=UTC:20230704T100000
DTEND;TZID=UTC:20230706T160000
DTSTAMP:20260423T174849
CREATED:20230426T162552Z
LAST-MODIFIED:20230426T164322Z
UID:1278-1688464800-1688659200@nigeriabusinessfinder.com
SUMMARY:Co-Create Africa Tech Exhibition 2023
DESCRIPTION:Co-Create Africa is a two days International Tech Expo bringing together top technology key players\, investors\, innovations and innovators. \nCo-Create Africa is a two days International Tech Expo bringing together top technology key players\, investors\, innovations and innovators around Africa to showcase\, exhibit and launch their products. \nCo-Create Africa will link individuals and organizations who are utilizing digital technology to spur growth and development. Showcasing over 11 content tracks such as Crypto currency\, Fintech\, Agri-tech\, PropTech\, etc. and providing a platform for knowledge exchange.
URL:https://nigeriabusinessfinder.com/event/co-create-africa-tech-exhibition-2023/
LOCATION:Eko Hotel And Suites 1415 Adetokunbo Ademola Street Lagos\, LA 106104 Nigeria
ATTACH;FMTTYPE=image/png:https://nigeriabusinessfinder.com/wp-content/uploads/2023/04/Co-Create-Africa-Tech-Exhibition-2023.png
END:VEVENT
END:VCALENDAR