BEGIN:VCALENDAR
VERSION:2.0
PRODID:-//Nigeria Business Finder - ECPv6.3.5//NONSGML v1.0//EN
CALSCALE:GREGORIAN
METHOD:PUBLISH
X-ORIGINAL-URL:https://nigeriabusinessfinder.com
X-WR-CALDESC:Events for Nigeria Business Finder
REFRESH-INTERVAL;VALUE=DURATION:PT1H
X-Robots-Tag:noindex
X-PUBLISHED-TTL:PT1H
BEGIN:VTIMEZONE
TZID:UTC
BEGIN:STANDARD
TZOFFSETFROM:+0000
TZOFFSETTO:+0000
TZNAME:UTC
DTSTART:20230101T000000
END:STANDARD
END:VTIMEZONE
BEGIN:VEVENT
DTSTART;TZID=UTC:20230606T100000
DTEND;TZID=UTC:20230606T170000
DTSTAMP:20260423T194109
CREATED:20230426T171849Z
LAST-MODIFIED:20230426T171849Z
UID:1308-1686045600-1686070800@nigeriabusinessfinder.com
SUMMARY:NIGERIA BUILDEXPO 2023
DESCRIPTION:We are delighted to announce NIGERIA BUILD EXPO is the only place to be if you are in construction sector. With key dedicated product groups you can be part of\, there is no better time to secure your stand space for 2023! Previous show welcomed 140 brands\, representing companies from 19 countries\,as well as more than 3800 visitors throughout the World: Algeria\, Austria\, Belgium\, China\, Germany\, Ghana\, India\, Italy\, Japan\, Lebanon\, Nigeria\, Poland\, Russia\, South Korea\, Spain\, Turkey\, United Arab Emirates\, United Kingdom\, United States. \nPlease contact us on; \nnigeriabuildexpo.net \ninfo@nigeriabuildexpo.net \nLagos / NIGERIA \nVenue: Landmark Centre
URL:https://nigeriabusinessfinder.com/event/nigeria-buildexpo-2023/
LOCATION:Landmark Centre Water Corporation Drive #Plot 2 & 3 Annex\, LA 106104 Nigeria
ATTACH;FMTTYPE=image/jpeg:https://nigeriabusinessfinder.com/wp-content/uploads/2023/04/NIGERIA-BUILDEXPO-2023.jpeg
END:VEVENT
BEGIN:VEVENT
DTSTART;TZID=UTC:20230606T100000
DTEND;TZID=UTC:20230608T170000
DTSTAMP:20260423T194109
CREATED:20230426T165923Z
LAST-MODIFIED:20230426T170116Z
UID:1295-1686045600-1686243600@nigeriabusinessfinder.com
SUMMARY:MEGA CERAMICA NIGERIA 2023
DESCRIPTION:The 2022 event attracted 140 brands\, representing companies from 19 countries\,as well as more than 3800 visitors throughout the World: Algeria\, Austria\,Belgium\, China\, Germany\, Ghana\, India\, Italy\, Japan\, Lebanon\, Nigeria\,Poland\, Russia\, South Korea\, Spain\, Turkey\, United Arab Emirates\, United Kingdom\, United States. \nMEGA CERAMICA West Africa aims to provide a unique platform for local and international manufacturers to shape the future ceramics sectors. \nPlease contact us on ; \nceramica@elanexpo.net \nmegaceramicaexpo.com/Nigeria \nLagos / NIGERIA \nVenue: Landmark Centre
URL:https://nigeriabusinessfinder.com/event/mega-ceramica-nigeria-2023/
LOCATION:Landmark Centre Water Corporation Drive #Plot 2 & 3 Annex\, LA 106104 Nigeria
ATTACH;FMTTYPE=image/jpeg:https://nigeriabusinessfinder.com/wp-content/uploads/2023/04/MEGA-CERAMICA-NIGERIA-2023.jpeg
END:VEVENT
END:VCALENDAR