BEGIN:VCALENDAR
VERSION:2.0
PRODID:-//Nigeria Business Finder - ECPv6.3.5//NONSGML v1.0//EN
CALSCALE:GREGORIAN
METHOD:PUBLISH
X-ORIGINAL-URL:https://nigeriabusinessfinder.com
X-WR-CALDESC:Events for Nigeria Business Finder
REFRESH-INTERVAL;VALUE=DURATION:PT1H
X-Robots-Tag:noindex
X-PUBLISHED-TTL:PT1H
BEGIN:VTIMEZONE
TZID:UTC
BEGIN:STANDARD
TZOFFSETFROM:+0000
TZOFFSETTO:+0000
TZNAME:UTC
DTSTART:20230101T000000
END:STANDARD
END:VTIMEZONE
BEGIN:VEVENT
DTSTART;TZID=UTC:20230519T180000
DTEND;TZID=UTC:20230519T210000
DTSTAMP:20260423T212016
CREATED:20230426T141343Z
LAST-MODIFIED:20230426T141613Z
UID:1246-1684519200-1684530000@nigeriabusinessfinder.com
SUMMARY:AfBC African Tech Forum – Manchester
DESCRIPTION:Accelerating the growth of African/black tech start-ups\, entrepreneurs\, innovation scale up\, funding\, investment and ProfTech digital skills. \nAfrican Business Chamber (AfBC) in partnership with University Salford Business School to host African Tech Forum – Manchester on Friday 19 May 2023 between 18: 00 – 21:00 GMT at the MediaCity\, Manchester during the Manchester Tech Week \nThe forum will bring together tech business leaders\, local authority representatives\, investors\, entrepreneurs\, minority diasporas\, Digtech experts\, policymakers\, academia and ProfTechs in the ecosystem to discuss economic opportunities\, strategies and support for minorities in STEM industries across Greater Manchester\, North West and UK to grow and thrive. \nTHE PROGRAMME \nTheme: Accelerating the growth of African/black tech start-ups\, entrepreneurs\, innovation scale up\, funding\, investment and ProfTech digital skills \nThe discussions will include: \n\nManchester digital economy\, policies and emerging opportunities\nManchester digital strategy and inclusion\nEmpowering minority tech entrepreneurs\, start-ups\, FemTech and ProfTech professionals\nFunding\, financing and VC investments for tech SME businesses and startups\nAccelerating tech innovation and inventions to market\nEmerging disruptive tech start-ups and solutions for the future\n\nSPEAKERS SPONSORSHIP \nWe have multiple opportunities for companies and businesses to showcase their product and services\, enhance brand awareness and connect with new clients/customers. Please contact us at info@african-chamber.com for more. \nFor enquiries\, to express interest to become a speaker at our events or sponsorship opportunities\, contact us at info@african-chamber.com \nABOUT AFRICAN BUSINESS CHAMBER \nAfrican Business Chamber (AfBC) is the UK’s business organisation representing African owned businesses and entrepreneurs in the UK. We are the collective voice of African businesses in the UK.
URL:https://nigeriabusinessfinder.com/event/afbc-african-tech-forum-manchester/
LOCATION:University of Salford – MediaCityUK University of Salford – MediaCityUK Orange Tower Salford M50 2HE
ATTACH;FMTTYPE=image/jpeg:https://nigeriabusinessfinder.com/wp-content/uploads/2023/04/AfBC-African-Tech-Forum-Manchester.jpeg
END:VEVENT
END:VCALENDAR